BEGIN:VCALENDAR
VERSION:2.0
PRODID:-//Lantern.ie - ECPv4.6.2//NONSGML v1.0//EN
CALSCALE:GREGORIAN
METHOD:PUBLISH
X-WR-CALNAME:Lantern.ie
X-ORIGINAL-URL:http://lantern.ie
X-WR-CALDESC:Events for Lantern.ie
BEGIN:VEVENT
DTSTART;TZID=UTC+0:20171028T110000
DTEND;TZID=UTC+0:20171028T110000
DTSTAMP:20171028T075922
CREATED:20170918T115258Z
LAST-MODIFIED:20170918T115258Z
UID:3913-1509188400-1509188400@lantern.ie
SUMMARY:Lords Of Strut - Absolute Legends
DESCRIPTION:***This is a seated show for all ages*** \nAll their lives they wanted to be famous. To get there they need to make the perfect dance routine and they need your help. In this dance fantasy adventure brothers Sean and Seamus rock out some banging moves\, run into trouble\, have a few tantrums\, cause a teensy bit of mayhem and find out if fame is really what they’re looking for after all. Street Performance World Champions\, unlikely heroes of Fringe smash hit RIOT and Britain’s Got Talent favourites\, LORDS OF STRUT deliver their most ridiculous and sublime family show to date. Rip roaringly funny\, fantastically bizarre and Absolute Legends! \nTickets:\n€10 – Under 18s\n€15 – Adults\n€40 – Family Ticket (Must include one Adult) \n  \n\n\n\n  \n
URL:http://lantern.ie/event/lords-of-strut-absolute-legends/
LOCATION:No.1\, North Main Street\, Wexford\, Ireland
GEO:52.3382901;-6.4617358
X-APPLE-STRUCTURED-LOCATION;VALUE=URI;X-ADDRESS=No.1 North Main Street Wexford Ireland;X-APPLE-RADIUS=500;X-TITLE=No.1\, North Main Street:geo:-6.4617358,52.3382901
CATEGORIES:Comedy,Featured,Lantern Events,Wexford Spiegeltent Festival
ATTACH;FMTTYPE=image/jpeg:http://lantern.ie/wp-content/uploads/2017/09/Lords-of-Strut-Wexford-Spiegeltent-Festival.jpg
END:VEVENT
BEGIN:VEVENT
DTSTART;TZID=UTC+0:20171028T190000
DTEND;TZID=UTC+0:20171028T190000
DTSTAMP:20171028T075922
CREATED:20170713T142848Z
LAST-MODIFIED:20170728T171729Z
UID:3734-1509217200-1509217200@lantern.ie
SUMMARY:PJ Gallagher
DESCRIPTION:***This is a seated show*** \nHot off the heels of his 2016 success with Irish Box Office smash hit film “The Young Offenders\, one of Ireland’s most popular comedians\, PJ Gallagher\, brings his new show “Dickhead” to the Spiegeltent on Saturday 28th October.  \nA natural on stage\, PJ’s previous tours\, Concussion and Separated at Birth (with Joanne McNally)\, received critical acclaim and played to sell out audiences. The Dublin funny man is also a festival favourite and regularly plays sold-out shows at Kilkenny Cat Laughs\, The Vodafone Comedy Carnival and the comedy stage at Electric Picnic. \nWell known as the star of RTE’s Naked Camera\, PJ’s various personas in the series included ladies man Jake Stevens\, ‘Dirty Auld One’ and a brilliantly gormless taxi driver who thoroughly duped sports pundits George Hook and the late Bill O’Herlihy. PJ’s other TV shows include Meet your Neighbours\, Next Week’s News and BBC’s The I Hate Show. He also participated in season 4 of Celebrity Bainisteoir\, in which he managed St Patrick’s GAA Club Donabate\, \nA talented broadcaster\, Gallagher presents P. J. and McCabe in the Morning with Jim McCabe on Classic Hits 4FM. More recently\, PJ has also garnered success as an actor. A graduate of the Gaiety School of Acting\, he performed at last year’s Dublin Theatre Festival in Alien Documentary and appeared in The Young Offenders\, which won Best Irish Film at the 2016 Galway Film Fleadh. \nThat guy cracked me up for an entire afternoon that I forgot to meet my wife for lunch. It’s classic comedy but with a twist.”  – Conan O’Brien \n\n\n\n
URL:http://lantern.ie/event/pj-gallagher/
LOCATION:No.1\, North Main Street\, Wexford\, Ireland
GEO:52.3382901;-6.4617358
X-APPLE-STRUCTURED-LOCATION;VALUE=URI;X-ADDRESS=No.1 North Main Street Wexford Ireland;X-APPLE-RADIUS=500;X-TITLE=No.1\, North Main Street:geo:-6.4617358,52.3382901
CATEGORIES:Comedy,Featured,Lantern Events
ATTACH;FMTTYPE=image/jpeg:http://lantern.ie/wp-content/uploads/2017/07/PJ-Gallagher-Wexford-Spiegeltent-Festival-Edit-7.jpg
END:VEVENT
BEGIN:VEVENT
DTSTART;TZID=UTC+0:20171028T213000
DTEND;TZID=UTC+0:20171028T213000
DTSTAMP:20171028T075922
CREATED:20170711T140701Z
LAST-MODIFIED:20170804T120038Z
UID:3720-1509226200-1509226200@lantern.ie
SUMMARY:Paul Heaton and Jacqui Abbott
DESCRIPTION:***This is a standing show and is strictly over 18’s*** \nPaul Heaton and Jacqui Abbott return to the Wexford Spiegeltent Festival on Saturday 28th of October. \nPaul Heaton has been a wonderfully astute songwriter – composer of the most joyful melodies\, the most barbed lyrics – for four full decades now. But where some artists\, even venerable ones\, can tend to coast somewhat in midlife\, Heaton\, along with his musical foil Jacqui Abbott\, is just hitting his stride. The duo’s new album\, ‘Crooked Calypso’\, brims with his newly-discovered zest for life. \n‘Crooked Calypso’ is 12 tracks long\, and boasts all the hallmarks of Heaton’s inimitable songwriting: songs buoyant with melody\, and redolent with snark\, but also real emotion. One of the songs ‘Blackwater Banks’\, is a most gorgeous waltz that celebrates Ireland and Irishness with a rarefied elegance that we would be proud to call our own. Inspired by Jacqui’s distant Irish roots and a cycling trip Paul made through the Emerald Isle including a stop off in the Sky and the Ground\, it could be a new Irish national anthem. \nPaul Heaton first found fame in the mid-1980s with The Housemartins\, surely one of that decade’s more gleefully idiosyncratic acts. Who else\, after all\, dared mix Christian imagery with Marxist leanings\, a dollop of humour and a side dish of gospel? By 1989\, he was fronting the Beautiful South\, and set about subverting the entire concept of the radio-friendly love song. Beautiful South’s canon was\, and remains\, full of lovely red roses that teetered on stalks of sharp thorns. ‘Song For Whoever’\, which reached number two in 1989\, was to all intents and purposes a classic ballad\, but it was also one written from the point of view of a cynical songwriter who pursued love simply to write more songs about love; and it remains wryly amusing to hear ‘Don’t Marry Her’ still getting heavy rotation on Heart FM today when you know that the album version of the polite single edit features the line “sweaty bollocks” and the joyful chorus of: “Don’t marry her\, fuck me”\, sung by Jacqui Abbott\, a former supermarket shelf stacker\, in arguably the most sublime country voice this side of Nashville. \nBeautiful South sold 15 million records before breaking up in 2007 due to “musical similarities”. Few of his peers could boast such sales. Heaton went solo\, while Abbott devoted time to raising her autistic son. When he contacted her again in 2011 with a view to collaborating once more\, Abbott was thrilled. And we are thrilled to welcome them back to the Spiegeltent once again. \n\n\n\n
URL:http://lantern.ie/event/paul-heaton-and-jacqui-abbott/
LOCATION:No.1\, North Main Street\, Wexford\, Ireland
GEO:52.3382901;-6.4617358
X-APPLE-STRUCTURED-LOCATION;VALUE=URI;X-ADDRESS=No.1 North Main Street Wexford Ireland;X-APPLE-RADIUS=500;X-TITLE=No.1\, North Main Street:geo:-6.4617358,52.3382901
CATEGORIES:Featured,Lantern Events
ATTACH;FMTTYPE=image/jpeg:http://lantern.ie/wp-content/uploads/2017/07/PHJA-Press-Shot-1400-x-933-1024x682.jpg
END:VEVENT
BEGIN:VEVENT
DTSTART;TZID=UTC+0:20171029T120000
DTEND;TZID=UTC+0:20171029T120000
DTSTAMP:20171028T075922
CREATED:20170918T115900Z
LAST-MODIFIED:20170918T115900Z
UID:3916-1509278400-1509278400@lantern.ie
SUMMARY:OTT Wrestling - All ages show
DESCRIPTION:Come see Over The Top Wrestling Prepare to Lose Control! \nOn Sunday 29th October we enter the squared circle as OTT Wrestling brings high octane American style wrestling to the Spiegeltent.  Catch spooktacular characters performing breath-taking acrobatic moves\, battling out good versus evil. \nCheer the lucky underdog\, the sore loser\, the strong unstoppable heroes through title bouts\, challenges and defences. \nFollow the feuds\, grudges\, love triangles\, and above all the improvised comedy that only Over the Top Wrestling provides. \nEach performance offers an unforgettable\, action packed spectacle unlike anything ever witnessed before in Ireland. \nOTT Wrestling All Ages Show 12 noon Sunday 29th October\, fancy dress is essential! \nTickets:\n€10 – Under 18s\n€15 – Adults\n€40 – Family Ticket (Must include one Adult) \n
URL:http://lantern.ie/event/ott-wrestling-all-ages-show/
LOCATION:No.1\, North Main Street\, Wexford\, Ireland
GEO:52.3382901;-6.4617358
X-APPLE-STRUCTURED-LOCATION;VALUE=URI;X-ADDRESS=No.1 North Main Street Wexford Ireland;X-APPLE-RADIUS=500;X-TITLE=No.1\, North Main Street:geo:-6.4617358,52.3382901
CATEGORIES:Comedy,Featured,Lantern Events,Wexford Spiegeltent Festival
ATTACH;FMTTYPE=image/png:http://lantern.ie/wp-content/uploads/2017/09/OTT_OverTheTopWrestling_Logo_3x2_600.png
END:VEVENT
BEGIN:VEVENT
DTSTART;TZID=UTC+0:20171029T190000
DTEND;TZID=UTC+0:20171029T190000
DTSTAMP:20171028T075922
CREATED:20170627T170231Z
LAST-MODIFIED:20170826T133819Z
UID:3693-1509303600-1509303600@lantern.ie
SUMMARY:Dermot & Dave The "Ah Sure Lookit" Tour
DESCRIPTION:***This is a seated show*** \n**Under 16’s will not be permitted** \n**16 & 17 year olds must be accompanied by an adult** \nToday FM’s presenters Dermot & Dave are bringing the “Ah Sure Lookit” tour to the Wexford Spiegeltent on Sunday\, October 29th. \nDermot Whelan and Dave Moore debuted their comedy show at the first Cork Comedy Festival last September and the following month at the Vodafone Comedy Carnival in Galway. Both shows sold out in record time.\nThis is the first time the pair has taken to the stage for a comedy gig but they’re well used to each other\, having worked together in radio for over 12 years.\nAsked what people can expect from their stand-up show\, Dermot Whelan said: “Imagine a bonkers radio show that grows legs and arms and a head and starts firing out craic and waving its arms like an angry King Kong in that movie. Not even close.”\nDave Moore commented: “It’s all our listeners’ favourite characters\, stand-up\, improvised comedy\, music and an interactive gardening segment – what’s not to love?!”\nListeners to The Dermot & Dave Show on Today FM will be familiar with their weekly ‘Ah Sure Lookit’ feature where a friend of the show ‘Mac from Carlow’ gives random clues and people are asked to guess what it is Mac is talking about. Although the comedy show has nothing to o with the feature\, the lads just like the name! \n
URL:http://lantern.ie/event/dermot-dave-the-ah-sure-lookit-tour/
LOCATION:No.1\, North Main Street\, Wexford\, Ireland
GEO:52.3382901;-6.4617358
X-APPLE-STRUCTURED-LOCATION;VALUE=URI;X-ADDRESS=No.1 North Main Street Wexford Ireland;X-APPLE-RADIUS=500;X-TITLE=No.1\, North Main Street:geo:-6.4617358,52.3382901
CATEGORIES:Comedy,Featured,Lantern Events
ATTACH;FMTTYPE=image/jpeg:http://lantern.ie/wp-content/uploads/2017/06/Dermot-and-Dave-2.jpg
END:VEVENT
BEGIN:VEVENT
DTSTART;TZID=UTC+0:20171029T220000
DTEND;TZID=UTC+0:20171029T220000
DTSTAMP:20171028T075922
CREATED:20170809T123225Z
LAST-MODIFIED:20170811T075418Z
UID:3827-1509314400-1509314400@lantern.ie
SUMMARY:The Riptide Movement
DESCRIPTION:***This is a standing show and is strictly over 18’s*** \nWe are delighted to welcome The Riptide Movement back to the Wexford Spiegeltent on Sunday 29th October. \nThe Riptide Movement are four lifelong friends from Lucan\, who began their musical journey in 2006.\nThey self-released their first two albums ‘What About The Tip Jars?’ (2009 – produced by legendary producer\, Tony Colton) and ‘Keep On Keepin’ On’ (2012 – self-produced). Their next album ‘Keep On Keepin’ On’ (2014) topped the Irish Charts and their latest American – recorded album ‘Ghosts’ (2016) reached #5 in the Irish Charts. \nTheir live shows are legendary and perhaps their most defining quality. The Riptide Movement closed the 2016 Wexford Spiegeltent Festival with a spectacular performance\, that almost lifted the roof. \n“Playing live is everything to us\, no matter what the gig\, venue or audience we’re playing to – we give it our all\, we play like it’s the last time we’ll ever play. The buzz from playing live is better than any drug\, it’s what keeps us going.” Mal\, TRM \nThere is an authenticity in everything they do. It permeates their sound and defines their approach. \nThey are dreamers with a plan\, on the journey of a lifetime. \nThis is special. You do not want to miss it! \n\n\n\n  \n
URL:http://lantern.ie/event/the-riptide-movement/
LOCATION:No.1\, North Main Street\, Wexford\, Ireland
GEO:52.3382901;-6.4617358
X-APPLE-STRUCTURED-LOCATION;VALUE=URI;X-ADDRESS=No.1 North Main Street Wexford Ireland;X-APPLE-RADIUS=500;X-TITLE=No.1\, North Main Street:geo:-6.4617358,52.3382901
CATEGORIES:Featured,Lantern Events,Wexford Spiegeltent Festival
ATTACH;FMTTYPE=image/jpeg:http://lantern.ie/wp-content/uploads/2017/08/The-Riptide-Movement-Wexford-Spiegeltent-Festival.jpg
END:VEVENT
BEGIN:VEVENT
DTSTART;TZID=UTC+0:20171030T140000
DTEND;TZID=UTC+0:20171030T140000
DTSTAMP:20171028T075922
CREATED:20170918T120144Z
LAST-MODIFIED:20170918T120144Z
UID:3919-1509372000-1509372000@lantern.ie
SUMMARY:The Wexford Male Voice Choir
DESCRIPTION:Local favourites\, Wexford Male Voice Choir return to the Spiegeltent once again on Bank Holiday Monday 30th October at 2pm. \nThe Wexford Male Voice Choir is an amateur TTBB (1st Tenors\, 2nd Tenors\, Baritones\, Basses) choir\, based in Wexford Town in the South East of Ireland\, which was founded by Dr. George Hadden in 1941. \nThey have a wide repertoire ranging from ecclesiastical to operatic to modern classics. The choir sing at various functions – charitable and other – throughout the year\, and have helped to raise sizeable amounts of money. \nThe Choir is renowned far and wide for its musical versatility and dedication to good music and good fun. \n
URL:http://lantern.ie/event/the-wexford-male-voice-choir/
LOCATION:No.1\, North Main Street\, Wexford\, Ireland
GEO:52.3382901;-6.4617358
X-APPLE-STRUCTURED-LOCATION;VALUE=URI;X-ADDRESS=No.1 North Main Street Wexford Ireland;X-APPLE-RADIUS=500;X-TITLE=No.1\, North Main Street:geo:-6.4617358,52.3382901
CATEGORIES:Featured,Lantern Events,Wexford Spiegeltent Festival
ATTACH;FMTTYPE=image/jpeg:http://lantern.ie/wp-content/uploads/2017/09/Wexford-Male-Voice-Choir.jpg
END:VEVENT
BEGIN:VEVENT
DTSTART;TZID=UTC+0:20171031T200000
DTEND;TZID=UTC+0:20171031T200000
DTSTAMP:20171028T075922
CREATED:20170721T082234Z
LAST-MODIFIED:20170905T162948Z
UID:3759-1509480000-1509480000@lantern.ie
SUMMARY:Imelda May
DESCRIPTION:***This is a standing show and is strictly over 18’s*** \nImelda May has become one of Ireland’s most celebrated female artists. Discovered by Jools Holland\, who asked Imelda to support him on tour\, Imelda has gone on to perform alongside legendary artists including Lou Reed\, Bono and Smokey Robinson and can count high profile artists including Bob Dylan (who recently revealed he is a fan of Imelda in a rare interview with Bill Flanagan) and Bono amongst her fans. \nProduced by the legendary T Bone Burnett\, Imelda’s new album ‘Life. Love. Flesh. Blood’ was recorded over seven days in Los Angeles and features musical contributions from Jeff Beck (on ‘Black Tears’)\, Jools Holland (on ‘When It’s My Time’) and an accomplished group of backing musicians including the core trio of guitarist Marc Ribot (Tom Waits\, Elvis Costello)\, drummer Jay Bellerose (Robert Plant and Alison Krauss) and bassist Zach Dawes (The Last Shadow Puppets\, Mini Mansions). \nOn release ‘Life. Love. Flesh. Blood’ topped the UK Americana chart and landed No.5 in the official UK album chart (her second UK top 5)\, ahead of artists including Texas and Drake with her strongest first sales week ever in the UK. One of the most critically acclaimed releases of 2017\, the album spent over a month in the Top 20 and recently returned to the Top 10 \nImelda’s new single ‘Girl I Used To Be’ is out now Decca Records. The track is taken from her Top 5 new album ‘Life. Love. Flesh. Blood’ and follows the BBC Radio 2 playlisted previous singles ‘Call Me’\, ‘Black Tears’ and ‘Should’ve Been You’. A hauntingly beautiful acoustic ballad\, ‘Girl I Used To Be’ a memoir of Imelda’s life growing up in the Liberties area of Dublin\, and the lessons learned she will pass on to her daughter.  \n“I love those old story songs where you’re taken on a journey from beginning to end\,” says Imelda of the track. “Songs you’re riveted with. Like when you’re in the car and you sit in the driveway\, because you can’t turn the radio off\, you have to listen to the end of the story. I thought\, ‘I’d like to write one of them’. The lyrics are about my family\, and my daughter\, and myself and my life growing up in Dublin. We didn’t have much money but my parents are fabulous\, creative and open-minded people. They gave me art and literature and encouraged me to do whatever was in my heart and I want to do that with my daughter.” \n  \n“Imelda May is an amazing singer.  Her voice can illuminate and bring to life songs like no one else.  I was so delighted to hear her new album where she explores new directions and new ideas.  She is a unique talent amongst the great vocalists of today”. \nJools Holland \n  \n“I love the girl she used to be but I think I love even more the woman she’s become. Still mischievous and playful\, still a siren but there’s an ache in her voice now that has me with a glass at my ear to the wall of her world where trouble has entered the room next door. She cries Black Tears\, she’s not inconsolable but you sense a girl retching in her bathroom… addiction… it’s not alcohol\, it’s not drugs… it’s a heart broken like a glass\, spilling over\, smashed on the tiles. There’s an erotic power here that’s not just feminine power. She makes truth telling an invitation to intimacy. How Bad Can a Good Girl Be is a stone cold classic that’ll outlive all of us. It’s always a wonder to watch an alchemist at work\, turning dull gray metals of a life too experienced into gold”. \nBono \n  \n“I’ve never met anyone quite like Imelda May. She is full of life. When I first happened onto her music\, she was a punky Irish Rockabilly singer with a great band. I was intrigued by her deep feeling for and understanding of that American art form\, much of which\, of course\, had originated in Ireland. When I ran across her several years later\, she had gone through a change of lives and was writing about it with a wild intensity and singing about it in the most open hearted way. I was inspired by her honesty and her generosity\, and I continue to be intrigued.” – T Bone Burnett \n\n\n\n
URL:http://lantern.ie/event/imelda-may-2/
LOCATION:No.1\, North Main Street\, Wexford\, Ireland
GEO:52.3382901;-6.4617358
X-APPLE-STRUCTURED-LOCATION;VALUE=URI;X-ADDRESS=No.1 North Main Street Wexford Ireland;X-APPLE-RADIUS=500;X-TITLE=No.1\, North Main Street:geo:-6.4617358,52.3382901
CATEGORIES:Featured,Wexford Spiegeltent Festival
ATTACH;FMTTYPE=image/jpeg:http://lantern.ie/wp-content/uploads/2017/07/Imelda-May-Wexford-Spiegeltent-Festival.jpg
END:VEVENT
BEGIN:VEVENT
DTSTART;TZID=UTC+0:20171124T200000
DTEND;TZID=UTC+0:20171124T200000
DTSTAMP:20171028T075922
CREATED:20171017T152742Z
LAST-MODIFIED:20171024T073805Z
UID:3934-1511553600-1511553600@lantern.ie
SUMMARY:John Spillane
DESCRIPTION:John Spillane – 2017 \n  \nOctober 2017 the acclaimed Irish Singer and Songwriter John Spillane\, celebrates 35 years of an ever-consistent vastly illuminating and exciting career within the world of music. Having sold over 100\,000 albums in Ireland\, John has also been awarded with two Meteor Irish Music Awards for ‘Best Act Folk’ and ‘Traditional’ act. His songs have been covered by many Irish folk lumineer’s such as Christy Moore\, Sean Keane\, Karan Casey\, Pauline Scanlon\, Solas\, Mary Black\, Méav\, Sinéad Lohan and Sharon Shannon. \n  \nTHE 33 YEARS! Run down by John Spillane \n  \n“I got a full-time permanent and pensionable job on my 18th birthday as a bank official in the Bank of Ireland. Two years later I left that job to become a full-time professional musician. My mother nearly killed me. I have played with many bands and musical outfits and served a number of musical apprenticeships. As well as solo work\, groups I have played with include; \n  \n\nSABRE 1978-1982\nNOEL SHINE AND JOHN SPILLANE 1982-1984\nJIMMY CROWLEY1983-1985\nTHE STARGAZERS 1984 – 1992\nNOMOS 1992-1997\nJOHN SPILLANE AND DECLAN SINNOTT 1995- 2000\nTHE GAELIC HIT FACTORY 2006\nA STÓR MO CHROÍ 2012-2017\n\n  \nI have also on occasion played with many outstanding musicians like JIMMY MCCARTHY\, BAABA MAAL\, CHRISTY MOORE\, GER WOLFE\, SINEAD LOHAN\, PAULINE SCANLON\, MICK FLANNERY. \n  \nI have had a fantastic musical journey. Some of the high points include teaming up with my manager Lorcan Ennis in 2000\, signing to EMI Records 1n 2001\, and the release of my albums; \n  \n\nTHE WELLS OF THE WORLD – 1997\nWILL WE BE BRILLIANT OR WHAT? – 2002\nHEY DREAMER – 2005\nTHE GAELIC HIT FACTORY – 2006\nMY DARK ROSALEEN AND THE ISLAND OF DREAMS – 2008\nIRISH SONGS WE LEARNED AT SCHOOL – 2008\nSO FAR SO GOOD LIKE – THE BEST OF JOHN SPILLANE – 2009\nMORE IRISH SONGS WE LEARNED AT SCHOOL – 2009\nA ROCK TO CLING TO –  2011\nLIFE IN AN IRISH TOWN – 2013\nTHE MAN WHO CAME IN FROM THE DARK – 2015\nIRISH SONGS WE LEARNED AT SCHOOL. ÁR AIS ARÍS – 2016\n\n  \nI have sung and played music in Ireland\, England\, Scotland\, Wales\, France\, Spain\, Italy\, Portugal\, Germany\, Australia\, Belgium\, Austria\, Poland\, Holland\, Switzerland\, U.S.A.\, Canada\, Bermuda\, Norway\, Finland\, Denmark\, Sweden\, Zambia\, Senegal\, China and Japan. \n  \n  \n
URL:http://lantern.ie/event/john-spillane/
CATEGORIES:Featured,Lantern Events
ATTACH;FMTTYPE=image/jpeg:http://lantern.ie/wp-content/uploads/2017/10/mb-john-spillane-01-e1508830660638.jpg
END:VEVENT
BEGIN:VEVENT
DTSTART;TZID=UTC+0:20171125T200000
DTEND;TZID=UTC+0:20171125T200000
DTSTAMP:20171028T075922
CREATED:20170904T163626Z
LAST-MODIFIED:20170905T162952Z
UID:3888-1511640000-1511640000@lantern.ie
SUMMARY:King Kong Company
DESCRIPTION:King Kong Company All Kong-quering Ireland & UK Tour \nHaving brought their brand of Irish ‘get the f*** up and dance’ music to audiences at festivals across Ireland and Europe this summer\, King Kong Company will be taking their award winning live shows indoors at the end of 2017\, with their biggest tour ever\, including their first tour of the UK. \n  \nIt was a summer of memorable gigs. One gig at Vestrock put them in front of 10\,000 Dutch people (they know how to dance)\, the set at Glastonbury won over loads of new fans\, while the audience at Boomtown knew a thing or two about getting ‘something off that’. Their hometown gig at Waterford Spraoi was the largest in the festivals 25 year history\, the cake was well and truly iced with a performance in the biggest tent at Electric Picnic just gone! \n  \nAway from live gigs the band have been busy getting up to no good too. In June they launched a beer in collaboration with Wexford’s YellowBelly brewers. The beer\, Commotion Lotion\, was made with Buckfast. It proved to be a surprising hit with critics and beer lovers. In July the band were invited to play for the President Michael D. Higgins one Monday afternoon. As you do. They performed Donkey Jaw (he did look at his hands). Then in August the band released Involved\, their first track since their highly acclaimed debut in 2016. Within 24 hours\, the slow building banger\, proved to be their most popular track yet. \n  \nIt’s been a good run for a bunch of mates who got together in 2011. They started out back then releasing one music video a month and never had any intentions of gigging. But just like pints\, the first gig lead to another\, then another\, and here we are six years later and what do they have to show for themselves? Quite a lot\, actually. \n  \nCheck out King Kong Company as they embark on a 14 date Ireland and UK tour\, hiiting Wexford on Saturday 25th November 2017 \n
URL:http://lantern.ie/event/king-kong-company/
LOCATION:Monck Street\, Wexford\, Ireland
GEO:52.3415979;-6.4629403
X-APPLE-STRUCTURED-LOCATION;VALUE=URI;X-ADDRESS=Monck Street Wexford Ireland;X-APPLE-RADIUS=500;X-TITLE=Monck Street:geo:-6.4629403,52.3415979
CATEGORIES:Featured,Lantern Events
ATTACH;FMTTYPE=image/jpeg:http://lantern.ie/wp-content/uploads/2017/09/KKCTour17Comp.jpg
END:VEVENT
BEGIN:VEVENT
DTSTART;TZID=UTC+0:20171130T200000
DTEND;TZID=UTC+0:20171130T200000
DTSTAMP:20171028T075922
CREATED:20170711T170101Z
LAST-MODIFIED:20170728T171625Z
UID:3728-1512072000-1512072000@lantern.ie
SUMMARY:Alison Spittle - Worrier Princess
DESCRIPTION:Alison worries. She worries so much she’s decided to do a show about it and now she can worry about making it a good show. \nAlison Spittle returns to Wexford Comedy Club\, after her hilarious appearance in the Thomas Moore Tavern at Jestfest 2017 and the antics with hecklers in Mackens\, we couldn’t wait to hear her nervous giggles once more. \nOne of Ireland’s fastest rising comedians\,the star and writer of RTE’s new major series ‘Nowhere Fast’ \, join Alison on her first tour. \nAs seen on RTÉ (Brendan O’Connor’s Cutting Edge\, Republic of Telly\, Des Bishop\, this is Ireland)\, TV3\, Sky Arts and heard on Newstalk (George Hook)\, this is Alison’s hilarious follow up to her smash-hit Fringe success …Discovers Hawaii. \n“Whether character or citizen\, Spittle comes across as a kind of genius.” **** IRISH TIMES \n“Breezily chatty and effusively funny\, Alison Spittle is a likeable combination of openness and chortling mischief.” THE SCOTSMAN \n“Spectacular in a beautifully surreal way” IRISH INDEPENDENT\n\nSupport on the night from Andrea Farrell (Stellar Comedian of the year) \n
URL:http://lantern.ie/event/alison-spittle-worrier-princess/
LOCATION:The Bullring\, Wexford\, Ireland
CATEGORIES:Comedy,Featured,Lantern Events
ATTACH;FMTTYPE=image/jpeg:http://lantern.ie/wp-content/uploads/2017/07/Alison-Spittle.jpg
END:VEVENT
BEGIN:VEVENT
DTSTART;TZID=UTC+0:20171230T200000
DTEND;TZID=UTC+0:20171230T200000
DTSTAMP:20171028T075922
CREATED:20170919T162532Z
LAST-MODIFIED:20170919T162710Z
UID:3924-1514664000-1514664000@lantern.ie
SUMMARY:Mick Flannery
DESCRIPTION:Mick Flannery returns to Wexford once again for a very special Christmas performance on Saturday Dec 30th\, 8pm at the Crown Live. \nIn the end of the day and the heel of the hunt\, you’re left with the songs. Everything else comes and goes – the shows and the tours and the applause and the acclaim\, which goes with them\, the prattle and the palaver which accompany an album release. Everything else fades out of view. Everything else doesn’t matter in the long run. But the songs remain. The songs you write on your own stick around. They’re going to be here for many years to come so they deserve to be treated with due care and utmost respect in the creation process. \nMick Flannery realised this a long time ago. He also realised that songwriting was the best part of this strange job of being a jobbing-gigging-talking-singing musician. \n
URL:http://lantern.ie/event/mick-flannery/
LOCATION:Monck Street\, Wexford\, Ireland
GEO:52.3415979;-6.4629403
X-APPLE-STRUCTURED-LOCATION;VALUE=URI;X-ADDRESS=Monck Street Wexford Ireland;X-APPLE-RADIUS=500;X-TITLE=Monck Street:geo:-6.4629403,52.3415979
CATEGORIES:Featured,Lantern Events
ATTACH;FMTTYPE=image/jpeg:http://lantern.ie/wp-content/uploads/2017/09/GN4_DAT_6857712.jpg-Copy-2.jpg
END:VEVENT
BEGIN:VEVENT
DTSTART;TZID=UTC+0:20180105T200000
DTEND;TZID=UTC+0:20180105T200000
DTSTAMP:20171028T075922
CREATED:20170902T125935Z
LAST-MODIFIED:20170902T143141Z
UID:3881-1515182400-1515182400@lantern.ie
SUMMARY:Neil Delamere: Butch Cassidy and the Sundance Pensioner
DESCRIPTION:One day Neil’s dad asked him to help deliver the Meals on Wheels. He agreed.  Little did they know that their lives would never be the same again. \nExcept for the bits of their lives that didn’t change. \n  \n“You’ll be hard pressed to find a more gifted comic at the Fringe.” ***** The Scotsman \n“One lean\, mean\, comedy\, killing machine. *****.” The Herald \n
URL:http://lantern.ie/event/neil-delamere/
LOCATION:Wexford\, Wexford\, Wexford\, Ireland
CATEGORIES:Comedy,Featured,Lantern Events
ATTACH;FMTTYPE=image/jpeg:http://lantern.ie/wp-content/uploads/2017/09/Neil-Delamere-Whites-Hotel-Jan-2018.jpg
END:VEVENT
END:VCALENDAR